BEGIN:VCALENDAR
VERSION:2.0
PRODID:icalendar-ruby
CALSCALE:GREGORIAN
BEGIN:VEVENT
DTSTAMP:20210122T075213Z
UID:713dd397-0de7-4b17-923a-5c09c0d151fa
DTSTART;TZID=Pacific/Auckland:20210124T140000
DTEND;TZID=Pacific/Auckland:20210124T143000
DESCRIPTION:Property ID# 500068
SUMMARY:Openhome for 7 Chelwood Street
END:VEVENT
END:VCALENDAR
