BEGIN:VCALENDAR
VERSION:2.0
PRODID:icalendar-ruby
CALSCALE:GREGORIAN
BEGIN:VEVENT
DTSTAMP:20210122T075217Z
UID:d306195c-678c-46f8-abec-f7dc28751379
DTSTART;TZID=Pacific/Auckland:20210124T150000
DTEND;TZID=Pacific/Auckland:20210124T153000
DESCRIPTION:Property ID# 499855
SUMMARY:Openhome for 8 Phillip Street
END:VEVENT
END:VCALENDAR
