BEGIN:VCALENDAR
VERSION:2.0
PRODID:icalendar-ruby
CALSCALE:GREGORIAN
BEGIN:VEVENT
DTSTAMP:20210122T075229Z
UID:2c6fcd30-f8a4-4b06-bc9d-d3160f7e4adb
DTSTART;TZID=Pacific/Auckland:20210124T113000
DTEND;TZID=Pacific/Auckland:20210124T120000
DESCRIPTION:Property ID# 498938
SUMMARY:Openhome for 218 Kaimatarau Road
END:VEVENT
END:VCALENDAR
