BEGIN:VCALENDAR
VERSION:2.0
PRODID:icalendar-ruby
CALSCALE:GREGORIAN
BEGIN:VEVENT
DTSTAMP:20210122T075221Z
UID:4424b726-2292-4631-a333-e75c44292bd0
DTSTART;TZID=Pacific/Auckland:20210124T130000
DTEND;TZID=Pacific/Auckland:20210124T134500
DESCRIPTION:Property ID# 499854
SUMMARY:Openhome for 69 Dundas Road
END:VEVENT
END:VCALENDAR
