BEGIN:VCALENDAR
VERSION:2.0
PRODID:icalendar-ruby
CALSCALE:GREGORIAN
BEGIN:VEVENT
DTSTAMP:20210122T075222Z
UID:1e7830c2-6dd1-4e4e-a529-3c84215bdd9f
DTSTART;TZID=Pacific/Auckland:20210121T164500
DTEND;TZID=Pacific/Auckland:20210121T173000
DESCRIPTION:Property ID# 497590
SUMMARY:Openhome for 64 Burgoyne Street
END:VEVENT
END:VCALENDAR
